BEGIN:VCALENDAR
VERSION:2.0
PRODID:-//eventon.com NONSGML v1.0//EN
CALSCALE:GREGORIAN
METHOD:PUBLISH
BEGIN:VEVENT
UID:69e9d91a19794
DTSTAMP:20260423T083226Z
DTSTART:20240719
DTEND:20240720
LOCATION:
SUMMARY:Stage 2 - Crowd Pleasers Karaoke Contest
DESCRIPTION:Stage 2 &#8211; Registration at 6:30 PM Get ready for an epic s
 howdown at the fair with the Crowd Pleasers Karaoke Contest! Witness new\, 
  fresh\,  and talented contestants signing up minutes before they take the 
 stage to sing their hearts out\,  sponsored by Minot State University. Don&
 #8217;t miss out on[..]\nhttps://ndstatefair.com/events/crowd-pleasers-kara
 oke-contest/
URL:https://ndstatefair.com/events/crowd-pleasers-karaoke-contest/
END:VEVENT
END:VCALENDAR