BEGIN:VCALENDAR
VERSION:2.0
PRODID:-//eventon.com NONSGML v1.0//EN
CALSCALE:GREGORIAN
METHOD:PUBLISH
BEGIN:VEVENT
UID:69e9d9d3b1b1e
DTSTAMP:20260423T083531Z
DTSTART:20250719T183000Z
DTEND:20250719T220000Z
LOCATION:Arena 1
SUMMARY:Pony Pull
DESCRIPTION:Arena I &#8211; Watch these small ponies pull! Two ponies make 
 up each team and their combined weight determines if they will compete in t
 he light weight or heavy weight class. Cash prizes are awarded to the top 9
  teams. Click here to register! \nhttps://ndstatefair.com/events/pony-pull
 /
URL:https://ndstatefair.com/events/pony-pull/
END:VEVENT
END:VCALENDAR