BEGIN:VCALENDAR
VERSION:2.0
PRODID:-//eventon.com NONSGML v1.0//EN
CALSCALE:GREGORIAN
METHOD:PUBLISH
BEGIN:VEVENT
UID:69e9d9820ab4e
DTSTAMP:20260423T083410Z
DTSTART:20250718
DTEND:20250719
LOCATION:
SUMMARY:Stage 5 - Off Axis Stunt Show
DESCRIPTION:Stage 5 &#8211; A high energy show featuring Trampwall\,  BMX\,
   Parkour\,  Teeterboard\,  Slam Dunk Contests\,  Comedy\,  and more\,  bro
 ught to you by Sonesta Essentials.\nhttps://ndstatefair.com/events/off-axis
 -stunt-show/
URL:https://ndstatefair.com/events/off-axis-stunt-show/
END:VEVENT
END:VCALENDAR