BEGIN:VCALENDAR
VERSION:2.0
PRODID:-//eventon.com NONSGML v1.0//EN
CALSCALE:GREGORIAN
METHOD:PUBLISH
BEGIN:VEVENT
UID:69e9d9da6d119
DTSTAMP:20260423T083538Z
DTSTART:20250718T193000Z
DTEND:20250721T223000Z
LOCATION:
SUMMARY:MHA Native American Dancers
DESCRIPTION:West Park &#8211; Join MHA Nation to learn about the Three Affi
 liated Tribes &#8211; Mandan\,  Hidatsa\,  and Arikara traditions and cultu
 re through their dances!\nhttps://ndstatefair.com/events/mha-native-america
 n-dancers/
URL:https://ndstatefair.com/events/mha-native-american-dancers/
END:VEVENT
END:VCALENDAR