BEGIN:VCALENDAR
VERSION:2.0
PRODID:-//eventon.com NONSGML v1.0//EN
CALSCALE:GREGORIAN
METHOD:PUBLISH
BEGIN:VEVENT
UID:69e9dafe9dcb2
DTSTAMP:20260423T084030Z
DTSTART:20250718
DTEND:20250719
LOCATION:
SUMMARY:Stage 2 - Dakota Talent
DESCRIPTION:Stage 2 &#8211; Prepare to be amazed as artists from every corn
 er of the state light up the fair with their electrifying music and dazzlin
 g talents\,  giving visitors a thrilling showcase day and night!\nhttps://n
 dstatefair.com/events/dakota-talent/
URL:https://ndstatefair.com/events/dakota-talent/
END:VEVENT
END:VCALENDAR