BEGIN:VCALENDAR
VERSION:2.0
PRODID:-//eventon.com NONSGML v1.0//EN
CALSCALE:GREGORIAN
METHOD:PUBLISH
BEGIN:VEVENT
UID:69e9dabacbd07
DTSTAMP:20260423T083922Z
DTSTART:20250718
DTEND:20250719
LOCATION:
SUMMARY:Stage 1 - Ready. Aim. Fire.
DESCRIPTION:Stage 1 &#8211; Sara Twister is a highly skilled contortionist 
 and performance artist known for her remarkable flexibility and innovative 
 performances\,  sponsored by Sky Dancer Casino and Resort. &nbsp;\nhttps://
 ndstatefair.com/events/ready-aim-fire/
URL:https://ndstatefair.com/events/ready-aim-fire/
END:VEVENT
END:VCALENDAR