BEGIN:VCALENDAR
VERSION:2.0
PRODID:-//eventon.com NONSGML v1.0//EN
CALSCALE:GREGORIAN
METHOD:PUBLISH
BEGIN:VEVENT
UID:69e9d9d3aa950
DTSTAMP:20260423T083531Z
DTSTART:20250718T150000Z
DTEND:20250727T020000Z
LOCATION:Stage 11
SUMMARY:Budweiser Clydesdales
DESCRIPTION:Machinery Row &#8211; Come see the iconic and majestic Budweise
 r Clydesdales! And don&#8217;t forget to snap some photos\,  so you can sha
 re with your family and friends on social media! &nbsp;\nhttps://ndstatefai
 r.com/events/clydesdales/
URL:https://ndstatefair.com/events/clydesdales/
END:VEVENT
END:VCALENDAR